BEGIN:VCALENDAR
VERSION:2.0
PRODID:-//ChamberMaster//Event Calendar 2.0//EN
METHOD:PUBLISH
X-PUBLISHED-TTL:P3D
REFRESH-INTERVAL:P3D
CALSCALE:GREGORIAN
BEGIN:VEVENT
DTSTART:20250726T150000Z
DTEND:20250726T170000Z
X-MICROSOFT-CDO-ALLDAYEVENT:FALSE
SUMMARY:Back to School Bash at First United Methodist Church
DESCRIPTION:Backpacks are available to the first 100 K-8 students who register at the event.  Lunch\, haircuts\, inflatables\, carnival games\, and door prizes are available to everyone.  For more information\, visit www.mtdorafumc.org or call 352-383-2005.
X-ALT-DESC;FMTTYPE=text/html:<span data-olk-copy-source="MessageBody" style="border: 0px\; font-variant-numeric: inherit\; font-variant-east-asian: inherit\; font-variant-alternates: inherit\; font-variant-position: inherit\; font-stretch: inherit\; font-size: 16px\; line-height: inherit\; font-family: Tahoma\, sans-serif\; font-optical-sizing: inherit\; font-size-adjust: inherit\; font-kerning: inherit\; font-feature-settings: inherit\; font-variation-settings: inherit\; margin: 0px\; padding: 0px\; vertical-align: baseline\; color: rgb(36\, 36\, 36)\;">Backpacks are available to the first 100 K-8 students who register at the event.&nbsp\; Lunch\, haircuts\, inflatables\, carnival games\, and door prizes are available to everyone.&nbsp\; For more information\, visit&nbsp\;</span><a data-auth="NotApplicable" href="http://www.mtdorafumc.org/" id="LPlnk496720" rel="noopener noreferrer" style="border: 0px\; font-variant-numeric: inherit\; font-variant-east-asian: inherit\; font-variant-alternates: inherit\; font-variant-position: inherit\; font-stretch: inherit\; font-size: 16px\; line-height: inherit\; font-family: &quot\;Times New Roman&quot\;\, serif\; font-optical-sizing: inherit\; font-size-adjust: inherit\; font-kerning: inherit\; font-feature-settings: inherit\; font-variation-settings: inherit\; margin: 0px\; padding: 0px\; vertical-align: baseline\;" target="_blank" title="http://www.mtdorafumc.org/"><span style="border: 0px\; font-style: inherit\; font-variant: inherit\; font-weight: inherit\; font-stretch: inherit\; font-size: inherit\; line-height: inherit\; font-family: Tahoma\, sans-serif\; font-optical-sizing: inherit\; font-size-adjust: inherit\; font-kerning: inherit\; font-feature-settings: inherit\; font-variation-settings: inherit\; margin: 0px\; padding: 0px\; vertical-align: baseline\; color: windowtext\;">www.mtdorafumc.org</span></a><span style="border: 0px\; font-variant-numeric: inherit\; font-variant-east-asian: inherit\; font-variant-alternates: inherit\; font-variant-position: inherit\; font-stretch: inherit\; font-size: 16px\; line-height: inherit\; font-family: Tahoma\, sans-serif\; font-optical-sizing: inherit\; font-size-adjust: inherit\; font-kerning: inherit\; font-feature-settings: inherit\; font-variation-settings: inherit\; margin: 0px\; padding: 0px\; vertical-align: baseline\; color: rgb(36\, 36\, 36)\;">&nbsp\;or call 352-383-2005.&nbsp\;</span>
LOCATION:First United Methodist Church is located at 439 E. Fifth Avenue\, Mount Dora\, FL.
UID:e.3485.19426
SEQUENCE:3
DTSTAMP:20260422T161937Z
URL:https://www.mountdora.com/events/details/back-to-school-bash-at-first-united-methodist-church-19426
END:VEVENT

END:VCALENDAR
