BEGIN:VCALENDAR
VERSION:2.0
PRODID:-//ChamberMaster//Event Calendar 2.0//EN
METHOD:PUBLISH
X-PUBLISHED-TTL:P3D
REFRESH-INTERVAL:P3D
CALSCALE:GREGORIAN
BEGIN:VEVENT
DTSTART:20241212T230000Z
DTEND:20241213T000000Z
X-MICROSOFT-CDO-ALLDAYEVENT:FALSE
SUMMARY:Avoiding HR Pitfalls for Small and Medium Businesses (SMBs)
DESCRIPTION:This training is designed to help small and medium sized businesses understand the legal risks associated with human resources and how to mitigate those risks. The training will cover topics such as discrimination\, wage and hour laws\, wrongful termination\, compliance issues\, and employee safety\, providing practical solutions and strategies to avoid common pitfalls.
X-ALT-DESC;FMTTYPE=text/html:This training is designed to help small and medium sized businesses understand the legal risks associated with human resources and how to mitigate those risks.&nbsp\;The training will cover topics such as discrimination\, wage and hour laws\, wrongful termination\, compliance issues\, and employee safety\, providing practical solutions and strategies to avoid common pitfalls.&nbsp\;&nbsp\;
LOCATION:Online Event
UID:e.3485.13216
SEQUENCE:3
DTSTAMP:20260422T223028Z
URL:https://www.mountdora.com/events/details/avoiding-hr-pitfalls-for-small-and-medium-businesses-smbs-12-12-2024-13216
END:VEVENT

END:VCALENDAR
