BEGIN:VCALENDAR
VERSION:2.0
PRODID:-//ChamberMaster//Event Calendar 2.0//EN
METHOD:PUBLISH
X-PUBLISHED-TTL:P3D
REFRESH-INTERVAL:P3D
CALSCALE:GREGORIAN
BEGIN:VEVENT
DTSTART:20250730T160000Z
DTEND:20250730T170000Z
X-MICROSOFT-CDO-ALLDAYEVENT:FALSE
SUMMARY:Avoiding HR Pitfalls for Small and Medium Businesses (SMBs)
DESCRIPTION:This training is designed to help small and medium sized businesses understand the legal risks associated with human resources and how to mitigate those risks. The training will cover topics such as discrimination\, wage and hour laws\, wrongful termination\, compliance issues\, and employee safety\, providing practical solutions and strategies to avoid common pitfalls.
X-ALT-DESC;FMTTYPE=text/html:This training is designed to help small and medium sized businesses understand the legal risks associated with human resources and how to mitigate those risks.&nbsp\;The training will cover topics such as discrimination\, wage and hour laws\, wrongful termination\, compliance issues\, and employee safety\, providing practical solutions and strategies to avoid common pitfalls.&nbsp\;&nbsp\;
LOCATION:LIVE EVENT (ONLINE)
UID:e.3485.18387
SEQUENCE:3
DTSTAMP:20260422T120256Z
URL:https://www.mountdora.com/events/details/avoiding-hr-pitfalls-for-small-and-medium-businesses-smbs-07-30-2025-18387
END:VEVENT

END:VCALENDAR
