BEGIN:VCALENDAR
VERSION:2.0
PRODID:-//ChamberMaster//Event Calendar 2.0//EN
METHOD:PUBLISH
X-PUBLISHED-TTL:P3D
REFRESH-INTERVAL:P3D
CALSCALE:GREGORIAN
BEGIN:VEVENT
DTSTART:20250919T120000Z
DTEND:20250921T200000Z
X-MICROSOFT-CDO-ALLDAYEVENT:FALSE
SUMMARY:Autumn Yard Sale
DESCRIPTION:Don't miss Renninger's Autumn Yard Sale. Clean out your unwanted goods and come sell them at this show. Free Admission. Free Parking. Pet Friendly.
X-ALT-DESC;FMTTYPE=text/html:Don&#39\;t miss Renninger&#39\;s Autumn Yard Sale. Clean out your unwanted goods and come sell them at this show. Free Admission. Free Parking. Pet Friendly.
LOCATION:20651 US HWY 441 Mount Dora
UID:e.3485.15041
SEQUENCE:3
DTSTAMP:20260422T145900Z
URL:https://www.mountdora.com/events/details/autumn-yard-sale-15041
END:VEVENT

END:VCALENDAR
