BEGIN:VCALENDAR
VERSION:2.0
PRODID:-//ChamberMaster//Event Calendar 2.0//EN
METHOD:PUBLISH
X-PUBLISHED-TTL:P3D
REFRESH-INTERVAL:P3D
CALSCALE:GREGORIAN
BEGIN:VEVENT
DTSTART:20250118T170000Z
DTEND:20250118T190000Z
X-MICROSOFT-CDO-ALLDAYEVENT:FALSE
SUMMARY:Author Signing Event at Dark Void Candle Company
DESCRIPTION:Authors Mika C.C.\, C.M. Leyva\, H.M. Wolfe\, and Ivette N. Diaz will be signing their books at Dark Void! Join us to discover the magic and romance behind the pages and get your copy signed!
X-ALT-DESC;FMTTYPE=text/html:Authors Mika C.C.\, C.M. Leyva\, H.M. Wolfe\, and Ivette N. Diaz will be signing their books at Dark Void! Join us to discover the magic and romance behind the pages and get your copy signed!
LOCATION:Dark Void Candle Company 348 N Alexander St Mount Dora\, FL 32757
UID:e.3485.13659
SEQUENCE:3
DTSTAMP:20260422T223030Z
URL:https://www.mountdora.com/events/details/author-signing-event-at-dark-void-candle-company-13659
END:VEVENT

END:VCALENDAR
