BEGIN:VCALENDAR
VERSION:2.0
PRODID:-//ChamberMaster//Event Calendar 2.0//EN
METHOD:PUBLISH
X-PUBLISHED-TTL:P3D
REFRESH-INTERVAL:P3D
CALSCALE:GREGORIAN
BEGIN:VEVENT
DTSTART:20260313T210000Z
DTEND:20260314T000000Z
X-MICROSOFT-CDO-ALLDAYEVENT:FALSE
SUMMARY:Artisans March Artists Reception
DESCRIPTION:March we are featuring 3 of our talented local artists in addition to our special guest artist. The window display will showcase the work of these 4 amazing talents all month so be sure to check that out. You are invited to attend our reception on Friday the 13th to meet and mingle with the artists. We look forward to seeing you there. https://www.artisansofmtdora.com/
X-ALT-DESC;FMTTYPE=text/html:<div>\n<div>\n<div style="text-align:center">\n<p>March we are featuring 3 of our talented local artists in addition to our special guest artist. The window display will showcase the work of these 4 amazing talents all month so be sure to check that out. You are invited to attend our reception on Friday the 13<sup>th</sup> to meet and mingle with the artists. We look forward to seeing you there.&nbsp\;<a href="https://www.artisansofmtdora.com/">https://www.artisansofmtdora.com/</a></p>\n</div>\n</div>\n</div>\n
LOCATION:Artisans of Mount Dora 139 E. 4th Ave. Mount Dora
UID:e.3485.21833
SEQUENCE:3
DTSTAMP:20260422T013423Z
URL:https://www.mountdora.com/events/details/artisans-march-artists-reception-21833
END:VEVENT

END:VCALENDAR
