BEGIN:VCALENDAR
VERSION:2.0
PRODID:-//ChamberMaster//Event Calendar 2.0//EN
METHOD:PUBLISH
X-PUBLISHED-TTL:P3D
REFRESH-INTERVAL:P3D
CALSCALE:GREGORIAN
BEGIN:VEVENT
DTSTART:20250314T220000Z
DTEND:20250315T010000Z
X-MICROSOFT-CDO-ALLDAYEVENT:FALSE
SUMMARY:Art In The Alley (CANCELLED)
DESCRIPTION:Mount Dora Art in the Alley- is a community focused event\, hosted by Mount Dora Center for The Arts. The event is geared towards providing local emerging artists an opportunity to showcase & sell their work to the public in an outdoors\, art market setting (All Artists are Welcome!). We also focus on offering affordable\, original\, quality works of art to the art enthusiast\, who otherwise\, may not afford the luxury of ART\n\n\n\nAdmission/Artist Set-Up Fee\n\nAdmission is free to the public\, \n\nbut best of all\, artist set-up is also free!
X-ALT-DESC;FMTTYPE=text/html:<span style="caret-color: rgb(0\, 0\, 0)\; color: rgb(0\, 0\, 0)\; font-family: -webkit-standard\; text-size-adjust: auto\; font-size: 15px\;"><i>Mount Dora Art in the Alley-</i></span><span style="caret-color: rgb(0\, 0\, 0)\; color: rgb(0\, 0\, 0)\; font-family: -webkit-standard\; text-size-adjust: auto\; font-size: 15px\;"> is a community focused event\, hosted by </span><span style="caret-color: rgb(0\, 0\, 0)\; color: rgb(0\, 0\, 0)\; font-family: -webkit-standard\; text-size-adjust: auto\; font-size: 15px\;"><i>Mount Dora Center for The Arts.</i></span><span style="caret-color: rgb(0\, 0\, 0)\; color: rgb(0\, 0\, 0)\; font-family: -webkit-standard\; text-size-adjust: auto\; font-size: 15px\;"> The event is geared towards providing local emerging artists an opportunity to showcase &amp\; sell their work to the public in an outdoors\, art market setting </span><span style="caret-color: rgb(0\, 0\, 0)\; color: rgb(0\, 0\, 0)\; font-family: -webkit-standard\; text-size-adjust: auto\; font-size: 15px\;"><i>(All Artists are Welcome!).</i> We also focus on offering affordable\, original\, quality works of art to the art enthusiast\, who otherwise\, may not afford the luxury of ART<br />\n<br />\n<b>Admission/Artist Set-Up Fee</b></span><br style="caret-color: rgb(0\, 0\, 0)\; color: rgb(0\, 0\, 0)\; font-family: -webkit-standard\; text-size-adjust: auto\;" />\n<span style="caret-color: rgb(0\, 0\, 0)\; color: rgb(0\, 0\, 0)\; font-family: -webkit-standard\; text-size-adjust: auto\; font-size: 15px\;">Admission is free to the public\, </span><br style="caret-color: rgb(0\, 0\, 0)\; color: rgb(0\, 0\, 0)\; font-family: -webkit-standard\; text-size-adjust: auto\;" />\n<span style="caret-color: rgb(0\, 0\, 0)\; color: rgb(0\, 0\, 0)\; font-family: -webkit-standard\; text-size-adjust: auto\; font-size: 15px\;">but best of all\, artist set-up is also free! </span>
LOCATION:Downtown Mount Dora N. Royellou Lane (The Alley Betweent 5th & 3rd Ave\, use 125 E. 4th Ave to locate alley)
UID:e.3485.6137
SEQUENCE:3
DTSTAMP:20260422T235111Z
URL:https://www.mountdora.com/events/details/art-in-the-alley-cancelled-6137
END:VEVENT

END:VCALENDAR
