BEGIN:VCALENDAR
VERSION:2.0
PRODID:-//ChamberMaster//Event Calendar 2.0//EN
METHOD:PUBLISH
X-PUBLISHED-TTL:P3D
REFRESH-INTERVAL:P3D
CALSCALE:GREGORIAN
BEGIN:VEVENT
DTSTART:20250122T170000Z
DTEND:20250122T183000Z
X-MICROSOFT-CDO-ALLDAYEVENT:FALSE
SUMMARY:Are YOU SBA Ready?
DESCRIPTION:If you need funding for your business and can't get on Shark Tank\, register for this webinar! You'll learn what steps are required to get approved for and SBA loan.\n\n\n\nSpecifically\, you will learn:\n\n\n\nThe importance of a written business plan\n\nHow to create financial projections\n\nWhich categories of loan proceeds you can request\n\nDifference between collateral and down payment\n\nPurchase or lease negotiations\n\nTenant improvements and or renovations\n\nWhat is funded at loan closing and the draw process
X-ALT-DESC;FMTTYPE=text/html:If you need funding for your business and can&#39\;t get on Shark Tank\, register for this webinar! You&#39\;ll learn what steps are required to get approved for and SBA loan.<br />\n<br />\nSpecifically\, you will learn:<br />\n<br />\nThe importance of a written business plan<br />\nHow to create financial projections<br />\nWhich categories of loan proceeds you can request<br />\nDifference between collateral and down payment<br />\nPurchase or lease negotiations<br />\nTenant improvements and or renovations<br />\nWhat is funded at loan closing and the draw process
LOCATION:Online Event
UID:e.3485.13262
SEQUENCE:3
DTSTAMP:20260422T222809Z
URL:https://www.mountdora.com/events/details/are-you-sba-ready-01-22-2025-13262
END:VEVENT

END:VCALENDAR
