BEGIN:VCALENDAR
VERSION:2.0
PRODID:-//ChamberMaster//Event Calendar 2.0//EN
METHOD:PUBLISH
X-PUBLISHED-TTL:P3D
REFRESH-INTERVAL:P3D
CALSCALE:GREGORIAN
BEGIN:VEVENT
DTSTART:20250118T190000Z
DTEND:20250118T203000Z
X-MICROSOFT-CDO-ALLDAYEVENT:FALSE
SUMMARY:Arbor Day Celebration
DESCRIPTION:All ages are invited to celebrate our first Arbor Day\, at Forest Preserve! Meet Mount Dora's new Urban Forester and learn more about trees   plus children are invited to a free Tree Lab. Refreshments served. No registration required. 2:00 PM   Tree-Planting Ceremony with refreshments! 2:30 PM   Tree Lab for children ages 12 & under   free seedlings! 2:30 PM   Tree Care program for adults with door prizes! 3:00   3:30 PM   Scavenger hunt for all ages   50 free trees! Sponsored by the Mount Dora Friends of the Environment & the Friends of the Library.
X-ALT-DESC;FMTTYPE=text/html:All ages are invited to celebrate our first Arbor Day\, at Forest Preserve! Meet Mount Dora&rsquo\;s new Urban Forester and learn more about trees &ndash\; plus children are invited to a free Tree Lab. Refreshments served. No registration required. 2:00 PM &ndash\; Tree-Planting Ceremony with refreshments! 2:30 PM &ndash\; Tree Lab for children ages 12 &amp\; under &ndash\; free seedlings! 2:30 PM &ndash\; Tree Care program for adults with door prizes! 3:00 &ndash\; 3:30 PM &ndash\; Scavenger hunt for all ages &ndash\; 50 free trees! Sponsored by the Mount Dora Friends of the Environment &amp\; the Friends of the Library.
LOCATION:Forest Preserve at W.T. Bland Public Library
UID:e.3485.13649
SEQUENCE:3
DTSTAMP:20260422T234655Z
URL:https://www.mountdora.com/events/details/arbor-day-celebration-13649
END:VEVENT

END:VCALENDAR
