BEGIN:VCALENDAR
VERSION:2.0
PRODID:-//ChamberMaster//Event Calendar 2.0//EN
METHOD:PUBLISH
X-PUBLISHED-TTL:P3D
REFRESH-INTERVAL:P3D
CALSCALE:GREGORIAN
BEGIN:VEVENT
DTSTART:20250606T140000Z
DTEND:20250606T150000Z
X-MICROSOFT-CDO-ALLDAYEVENT:FALSE
SUMMARY:Amazon Listing Essentials: Attract Customers\, Drive Traffic\, and Boost Sales
DESCRIPTION:Are you ready to create Amazon listings that attract customers\, drive traffic\, and boost sales?\n\n\n\nIf so\, you're in the right place! Selling on Amazon is a powerful way to grow your brand and business\, and an optimized product listing is the key to success.\n\n\n\nIn this one-hour webinar\, we'll guide you through the best strategies for listing and optimizing your products on Amazon\, whether you're a reseller or a brand owner.\n\n\n\n As a Reseller   Learn how to list on existing and new listings\, win the Featured Offer\, and maximize your sales potential.\n\n\n\n As a Brand Owner   Discover the step-by-step process to create and optimize your own listings.\n\n\n\nAll while leveraging free resources\, data\, and Amazon's best practices to drive success.\n\n\n\n What You'll Learn:\n\n\n\nHow to create optimized\, high-converting listings\n\nTips to increase visibility and drive more sales\n\nExpert techniques for crafting titles\, bullet points\, and product descriptions\n\nLeveraging backend keywords and attributes \n\nTelling a compelling product story through listing images\n\nThis webinar is perfect for beginners\, experienced sellers looking for a refresh\, and anyone wanting to maximize their success on Amazon!\n\n Don't miss out - join us and take your Amazon business to the next level!
X-ALT-DESC;FMTTYPE=text/html:Are you ready to create Amazon listings that attract customers\, drive traffic\, and boost sales?<br />\n<br />\nIf so\, you&rsquo\;re in the right place! Selling on Amazon is a powerful way to grow your brand and business\, and an&nbsp\;optimized product listing&nbsp\;is the key to success.<br />\n<br />\nIn this&nbsp\;one-hour webinar\, we&rsquo\;ll guide you through the best strategies for&nbsp\;listing and optimizing your products&nbsp\;on Amazon\, whether you&#39\;re a&nbsp\;reseller&nbsp\;or a&nbsp\;brand owner.<br />\n<br />\n&nbsp\;As a Reseller&nbsp\;&ndash\; Learn how to list on existing and new listings\,&nbsp\;win the Featured Offer\, and maximize your sales potential.<br />\n<br />\n&nbsp\;As a Brand Owner&nbsp\;&ndash\; Discover the&nbsp\;step-by-step process&nbsp\;to create and optimize your own listings.<br />\n<br />\nAll while leveraging&nbsp\;free resources\, data\, and Amazon&rsquo\;s best practices&nbsp\;to drive success.<br />\n<br />\n&nbsp\;What You&rsquo\;ll Learn:<br />\n<br />\nHow to create&nbsp\;optimized\, high-converting listings<br />\nTips to&nbsp\;increase visibility and drive more sales<br />\nExpert techniques for crafting&nbsp\;titles\, bullet points\, and product descriptions<br />\nLeveraging&nbsp\;backend keywords and attributes&nbsp\;<br />\nTelling a&nbsp\;compelling product story&nbsp\;through listing images<br />\nThis webinar is perfect for beginners\, experienced sellers looking for a refresh\, and anyone wanting to maximize their success on Amazon!<br />\n&nbsp\;Don&rsquo\;t miss out - join us and take your Amazon business to the next level!&nbsp\;
LOCATION:Online Event
UID:e.3485.18283
SEQUENCE:3
DTSTAMP:20260422T150000Z
URL:https://www.mountdora.com/events/details/amazon-listing-essentials-attract-customers-drive-traffic-and-boost-sales-18283
END:VEVENT

END:VCALENDAR
