BEGIN:VCALENDAR
VERSION:2.0
PRODID:-//ChamberMaster//Event Calendar 2.0//EN
METHOD:PUBLISH
X-PUBLISHED-TTL:P3D
REFRESH-INTERVAL:P3D
CALSCALE:GREGORIAN
BEGIN:VEVENT
DTSTART:20250821T213000Z
DTEND:20250821T230000Z
X-MICROSOFT-CDO-ALLDAYEVENT:FALSE
SUMMARY:AFTER HOURS - Shoes & Booze - Becker's Best Shoes
DESCRIPTION:Join us for "Shoes & Booze" After Hours at Becker's Best Shoes\n\n\n\nThis event series affords the attendees a great relationship-building opportunity with fellow Chamber members while enjoying light refreshments. Show your support and check out Becker's best comfort shoes and so much more.
X-ALT-DESC;FMTTYPE=text/html:<strong>Join us for &quot\;Shoes &amp\; Booze&quot\; After Hours at&nbsp\;</strong><span style="color:#000000\;">Becker&#39\;s Best Shoes</span><br />\n<br />\nThis event series affords the attendees a great relationship-building opportunity with fellow Chamber members while enjoying light refreshments. Show your support and check out Becker&#39\;s best comfort shoes and so much more.
LOCATION:
UID:e.3485.19574
SEQUENCE:3
DTSTAMP:20260422T110052Z
URL:https://www.mountdora.com/events/details/after-hours-shoes-booze-becker-s-best-shoes-19574
END:VEVENT

END:VCALENDAR
