BEGIN:VCALENDAR
VERSION:2.0
PRODID:-//ChamberMaster//Event Calendar 2.0//EN
METHOD:PUBLISH
X-PUBLISHED-TTL:P3D
REFRESH-INTERVAL:P3D
CALSCALE:GREGORIAN
BEGIN:VEVENT
DTSTART:20260319T213000Z
DTEND:20260319T230000Z
X-MICROSOFT-CDO-ALLDAYEVENT:FALSE
SUMMARY:AFTER HOURS -Maw's Mountain Moonshine
DESCRIPTION:Come on down to Maw's Mountain Moonshine for the March After Hours!\n\nThis event series affords the attendees a great relationship-building opportunity and to also learn more about the event sponsor.
X-ALT-DESC;FMTTYPE=text/html:Come on down to Maw&#39\;s Mountain Moonshine for the March After Hours!<br />\nThis event series affords the attendees a great relationship-building opportunity and to also learn more about the event sponsor.
LOCATION:352 N Alexander St Mount Dora\, FL
UID:e.3485.21624
SEQUENCE:3
DTSTAMP:20260421T211650Z
URL:https://www.mountdora.com/events/details/after-hours-maw-s-mountain-moonshine-21624
END:VEVENT

END:VCALENDAR
