BEGIN:VCALENDAR
VERSION:2.0
PRODID:-//ChamberMaster//Event Calendar 2.0//EN
METHOD:PUBLISH
X-PUBLISHED-TTL:P3D
REFRESH-INTERVAL:P3D
CALSCALE:GREGORIAN
BEGIN:VEVENT
DTSTART:20250918T213000Z
DTEND:20250918T230000Z
X-MICROSOFT-CDO-ALLDAYEVENT:FALSE
SUMMARY:AFTER HOURS - Kiwanis @ Eden Abbey
DESCRIPTION:After Hours - Kiwanis Club of Mount Dora\n\n\n\nJoin us at Eden Abbey Brewing for Kiwanis Club of Mount Dora After Hours\, 5:30 7:00 PM! Celebrate 100 years of Kiwanis in Mount Dora with snacks\, networking\, and a cash bar.
X-ALT-DESC;FMTTYPE=text/html:<strong>After Hours - </strong><span style="color:#A52A2A\;">Kiwanis Club of Mount Dora</span><br />\n<br />\nJoin us at <strong data-end="105" data-is-only-node="" data-start="83">Eden Abbey Brewing</strong> for Kiwanis Club of Mount Dora After Hours\, 5:30&ndash\;7:00 PM! Celebrate <strong data-end="193" data-start="155">100 years of Kiwanis in Mount Dora</strong> with snacks\, networking\, and a cash bar.&nbsp\;
LOCATION:Kiwanis Club of Mount Dora at Eden Abbey\, 405 S Highland Street\, Mount Dora\, FL 32757
UID:e.3485.19598
SEQUENCE:3
DTSTAMP:20260422T102941Z
URL:https://www.mountdora.com/events/details/after-hours-kiwanis-eden-abbey-19598
END:VEVENT

END:VCALENDAR
