BEGIN:VCALENDAR
VERSION:2.0
PRODID:-//ChamberMaster//Event Calendar 2.0//EN
METHOD:PUBLISH
X-PUBLISHED-TTL:P3D
REFRESH-INTERVAL:P3D
CALSCALE:GREGORIAN
BEGIN:VEVENT
DTSTART:20250116T223000Z
DTEND:20250117T000000Z
X-MICROSOFT-CDO-ALLDAYEVENT:FALSE
SUMMARY:AFTER HOURS - Congregational Church of Mount Dora
DESCRIPTION:After Hours - Congregational Church of Mount Dora\n\n\n\nThis event series affords the attendees a great relationship-building opportunity and to also learn about the church's historic past (it's the oldest building in Mount Dora\, founded in 1883). with fellow Chamber members while enjoying appetizers and beverages. The current Pastor\, Rev. Gary Marshall\, will conduct tours of the Church Nave and Sanctuary.\n\n(Please\, no food or drink inside the Nave and Sanctuary.)  Refreshments will be served in our Fellowship Hall.
X-ALT-DESC;FMTTYPE=text/html:<strong>After Hours - Congregational Church of Mount Dora</strong><br />\n<br />\nThis event series affords the attendees a great relationship-building opportunity and to also learn about the church&#39\;s historic past (it&#39\;s the oldest building in Mount Dora\, founded in 1883)<span data-olk-copy-source="MessageBody" style="font-size: 14pt\;">.</span><!--EndFragment--> with fellow Chamber members while enjoying appetizers and beverages.&nbsp\;The current Pastor\, Rev. Gary Marshall\, will conduct tours of the Church Nave and Sanctuary.<br />\n<u>(Please\, no food or drink inside the Nave and Sanctuary.)&nbsp\; Refreshments will be served in our Fellowship Hall.</u>
LOCATION:
UID:e.3485.13660
SEQUENCE:3
DTSTAMP:20260422T223230Z
URL:https://www.mountdora.com/events/details/after-hours-congregational-church-of-mount-dora-13660
END:VEVENT

END:VCALENDAR
