BEGIN:VCALENDAR
VERSION:2.0
PRODID:-//ChamberMaster//Event Calendar 2.0//EN
METHOD:PUBLISH
X-PUBLISHED-TTL:P3D
REFRESH-INTERVAL:P3D
CALSCALE:GREGORIAN
BEGIN:VEVENT
DTSTART:20250717T213000Z
DTEND:20250717T230000Z
X-MICROSOFT-CDO-ALLDAYEVENT:FALSE
SUMMARY:AFTER HOURS - Bob's Air Conditioning @ Eden Abbey
DESCRIPTION:After Hours - Bob's Air Conditioning\n\n\n\nThis event series affords the attendees a great relationship-building opportunity with fellow Chamber members.
X-ALT-DESC;FMTTYPE=text/html:<strong>After Hours - </strong><span style="color:#A52A2A\;">Bob&#39\;s Air Conditioning</span><br />\n<br />\nThis event series affords the attendees a great relationship-building opportunity with fellow Chamber members.
LOCATION:Bob's Air Conditioning at Eden Abbey\, 405 S Highland Street\, Mount Dora\, FL 32757
UID:e.3485.19425
SEQUENCE:3
DTSTAMP:20260422T120152Z
URL:https://www.mountdora.com/events/details/after-hours-bob-s-air-conditioning-eden-abbey-19425
END:VEVENT

END:VCALENDAR
