BEGIN:VCALENDAR
VERSION:2.0
PRODID:-//ChamberMaster//Event Calendar 2.0//EN
METHOD:PUBLISH
X-PUBLISHED-TTL:P3D
REFRESH-INTERVAL:P3D
CALSCALE:GREGORIAN
BEGIN:VEVENT
DTSTART:20250911T140000Z
DTEND:20250911T153000Z
X-MICROSOFT-CDO-ALLDAYEVENT:FALSE
SUMMARY:Adv. Email Marketing: Grow Contact Lists\, Personalize Messages & Create Reports
DESCRIPTION:Email marketing is only as effective as your least engaged subscriber. That's why having an interested and qualified list of contacts is vital to your business. Continuing to grow that list is just as important. We will give you strategies to capture new contacts and to build relationships so you can see the real business results that you deserve.\n\n \n\nAs a small business\, you have an advantage over larger businesses. You see and interact with your customers on a daily basis. These relationships with your customers\, clients\, or members allow you to create more personalized email marketing efforts that get great results.\n\n\n\n\n\nWe will cover:\n\n\n\nGrowing your email marketing list\n\nPersonalizing email campaigns\n\nUsing automation to save time and reach customers\n\nCreating reports to gauge your success
X-ALT-DESC;FMTTYPE=text/html:Email marketing is only as effective as your least engaged subscriber. That&rsquo\;s why having an interested and qualified list of contacts is vital to your business. Continuing to grow that list is just as important. We will give you strategies to capture new contacts and to build relationships so you can see the real business results that you deserve.<br />\n&nbsp\;<br />\nAs a small business\, you have an advantage over larger businesses. You see and interact with your customers on a daily basis. These relationships with your customers\, clients\, or members allow you to create more personalized email marketing efforts that get great results.<br />\n<br />\n<br />\nWe will cover:<br />\n<br />\nGrowing your email marketing list<br />\nPersonalizing email campaigns<br />\nUsing automation to save time and reach customers<br />\nCreating reports to gauge your success
LOCATION:Online Event
UID:e.3485.19541
SEQUENCE:3
DTSTAMP:20260422T103313Z
URL:https://www.mountdora.com/events/details/adv-email-marketing-grow-contact-lists-personalize-messages-create-reports-19541
END:VEVENT

END:VCALENDAR
