BEGIN:VCALENDAR
VERSION:2.0
PRODID:-//ChamberMaster//Event Calendar 2.0//EN
METHOD:PUBLISH
X-PUBLISHED-TTL:P3D
REFRESH-INTERVAL:P3D
CALSCALE:GREGORIAN
BEGIN:VEVENT
DTSTART:20251023T160000Z
DTEND:20251023T173000Z
X-MICROSOFT-CDO-ALLDAYEVENT:FALSE
SUMMARY:Accessing Grants\, Sponsorships & Resources For Your Nonprofit
DESCRIPTION:This workshop provides a high-level overview of the online spaces available for\n\n\n\nmajor sources of funding and nonprofit resources. Divided into three sections\, the\n\n\n\ndiscussion addresses the following objectives: (1) the best grant databases and\n\n\n\nwebsites\, (2) where to locate corporate sponsors\, and (3) nonprofit resources that\n\n\n\nwill help you further your mission.\n\n\n\nAfter participating in this webinar\, you should be able to:\n\n\n\n  Identify key websites and databases to guide the procurement of grant\n\n\n\nfunds for Religious\, Arts\, Human Services\, Social Justice\, Animal Rescue\,\n\n\n\nand Educational charities.\n\n\n\n  Determine program eligibility for grants based on funder guidelines.\n\n\n\n  Quickly locate potential corporate sponsors.\n\n\n\n  Identify the different types of grant procurement documents\, and when to\n\n\n\nuse each type.\n\n\n\n  Navigate the broad field of nonprofit resources.
X-ALT-DESC;FMTTYPE=text/html:This workshop provides a high-level overview of the online spaces available for<br />\n<br />\nmajor sources of funding and nonprofit resources. Divided into three sections\, the<br />\n<br />\ndiscussion addresses the following objectives: (1) the best grant databases and<br />\n<br />\nwebsites\, (2) where to locate corporate sponsors\, and (3) nonprofit resources that<br />\n<br />\nwill help you further your mission.<br />\n<br />\nAfter participating in this webinar\, you should be able to:<br />\n<br />\n&bull\; Identify key websites and databases to guide the procurement of grant<br />\n<br />\nfunds for Religious\, Arts\, Human Services\, Social Justice\, Animal Rescue\,<br />\n<br />\nand Educational charities.<br />\n<br />\n&bull\; Determine program eligibility for grants based on funder guidelines.<br />\n<br />\n&bull\; Quickly locate potential corporate sponsors.<br />\n<br />\n&bull\; Identify the different types of grant procurement documents\, and when to<br />\n<br />\nuse each type.<br />\n<br />\n&bull\; Navigate the broad field of nonprofit resources.<br />\n<br />\n&nbsp\;
LOCATION:Online Event
UID:e.3485.19651
SEQUENCE:3
DTSTAMP:20260422T091627Z
URL:https://www.mountdora.com/events/details/accessing-grants-sponsorships-resources-for-your-nonprofit-10-23-2025-19651
END:VEVENT

END:VCALENDAR
