BEGIN:VCALENDAR
VERSION:2.0
PRODID:-//ChamberMaster//Event Calendar 2.0//EN
METHOD:PUBLISH
X-PUBLISHED-TTL:P3D
REFRESH-INTERVAL:P3D
CALSCALE:GREGORIAN
BEGIN:VEVENT
DTSTART:20250605T120000Z
DTEND:20250605T130000Z
X-MICROSOFT-CDO-ALLDAYEVENT:FALSE
SUMMARY:4-Steps to Financial Security for Entrepreneurs
DESCRIPTION:"4-Steps to Financial Security for Entrepreneurs" is a transformative session that will guide entrepreneurs through the four essential steps to help them achieve lasting financial security. We'll talk about assessing your current financial position\, aligning your priorities with both your personal and business goals so your decisions will contribute directly to your long-term success.\n\n\n\n\n\n\n\n\n\nWhether you're just starting out or looking to refine your financial strategy\, this session will provide you with the practical insights and steps you need to secure your financial future and confidently build wealth for years to come.\n\n\n\n\n\n\n\n\n\nLearning objectives:\n\n\n\n1) Help you gain clarity on your financial position\n\n\n\n2) Aligning your financial priorities with you goals\n\n\n\n3) Creating a plan to ensure growth and financial stability\n\n\n\n4) Importance of regularly reviewing and adjusting your plan
X-ALT-DESC;FMTTYPE=text/html:&quot\;4-Steps to Financial Security for Entrepreneurs&quot\; is a transformative session that will guide entrepreneurs through the four essential steps to help them achieve lasting financial security. We&#39\;ll talk about assessing your current financial position\, aligning your priorities with both your personal and business goals so your decisions will contribute directly to your long-term success.<br />\n<br />\n<br />\n<br />\n<br />\nWhether you&#39\;re just starting out or looking to refine your financial strategy\, this session will provide you with the practical insights and steps you need to secure your financial future and confidently build wealth for years to come.<br />\n<br />\n<br />\n<br />\n<br />\nLearning objectives:<br />\n<br />\n1) Help you gain clarity on your financial position<br />\n<br />\n2) Aligning your financial priorities with you goals<br />\n<br />\n3) Creating a plan to ensure growth and financial stability<br />\n<br />\n4) Importance of regularly reviewing and adjusting your plan<br />\n<br />\n&nbsp\;
LOCATION:Online Event
UID:e.3485.18281
SEQUENCE:3
DTSTAMP:20260422T132111Z
URL:https://www.mountdora.com/events/details/4-steps-to-financial-security-for-entrepreneurs-18281
END:VEVENT

END:VCALENDAR
