BEGIN:VCALENDAR
VERSION:2.0
PRODID:-//ChamberMaster//Event Calendar 2.0//EN
METHOD:PUBLISH
X-PUBLISHED-TTL:P3D
REFRESH-INTERVAL:P3D
CALSCALE:GREGORIAN
BEGIN:VEVENT
DTSTART:20251205T230000Z
DTEND:20251206T020000Z
X-MICROSOFT-CDO-ALLDAYEVENT:FALSE
SUMMARY:33rd Annual Christmas Walk
DESCRIPTION:Come join us for the 33rd ANNUAL CHRISTMAS WALK in downtown Mount Dora. It's going to be a celebration of Lights\, Shopping & Holiday Fun! Featuring Santa\, Jugglers\, Carolers\, a Petting Zoo & so much more for the entire family\, Young and the Young at Heart!!!\n\nIn case you missed LIGHT UP MOUNT DORA\, this is a great opportunity to come see what makes Mount Dora\, someplace special.
X-ALT-DESC;FMTTYPE=text/html:<div style="text-align: center\;"><br />\n<br />\n<span style="font-family:tahoma\;"><strong><span style="font-size:14px\;">Come join us for the 33rd ANNUAL CHRISTMAS WALK in downtown Mount Dora. It&#39\;s going to be a celebration of Lights\, Shopping &amp\; Holiday Fun! Featuring Santa\, Jugglers\, Carolers\, a Petting Zoo &amp\; so much more for the entire family\, Young and the Young at Heart!!!<br />\nIn case you missed LIGHT UP MOUNT DORA\, this is a great opportunity to come see what makes Mount Dora\, someplace special.</span></strong></span></div>\n
LOCATION:
UID:e.3485.19742
SEQUENCE:3
DTSTAMP:20260423T094719Z
URL:https://www.mountdora.com/events/details/33rd-annual-christmas-walk-19742
END:VEVENT

END:VCALENDAR
