BEGIN:VCALENDAR
VERSION:2.0
PRODID:-//ChamberMaster//Event Calendar 2.0//EN
METHOD:PUBLISH
X-PUBLISHED-TTL:P3D
REFRESH-INTERVAL:P3D
CALSCALE:GREGORIAN
BEGIN:VEVENT
DTSTART:20251003T113000Z
DTEND:20251003T170000Z
X-MICROSOFT-CDO-ALLDAYEVENT:FALSE
SUMMARY:25th Annual Dr. Tom Sanders Kiwanis Klassic
DESCRIPTION:Join us for an exciting day of golf. Mulligan kits and raffle items available.\n\nAgenda:\n\n7:30AM Golf Registration\n\n8:30AM Shotgun Start\n\n12:30PM Lunch and Awards
X-ALT-DESC;FMTTYPE=text/html:Join us for an exciting day of golf. Mulligan kits and raffle items available.<br />\nAgenda:<br />\n7:30AM Golf Registration<br />\n8:30AM Shotgun Start<br />\n12:30PM Lunch and Awards
LOCATION:Country Club of Mount Dora 1900 Country Club Blvd Mount Dora\, FL
UID:e.3485.19603
SEQUENCE:3
DTSTAMP:20260422T120141Z
URL:https://www.mountdora.com/events/details/25th-annual-dr-tom-sanders-kiwanis-klassic-19603
END:VEVENT

END:VCALENDAR
