BEGIN:VCALENDAR
VERSION:2.0
PRODID:-//ChamberMaster//Event Calendar 2.0//EN
METHOD:PUBLISH
X-PUBLISHED-TTL:P3D
REFRESH-INTERVAL:P3D
CALSCALE:GREGORIAN
BEGIN:VEVENT
DTSTART:20250111T230000Z
DTEND:20250112T030000Z
X-MICROSOFT-CDO-ALLDAYEVENT:FALSE
SUMMARY:1st Annual Daisy Music Fest
DESCRIPTION:Enjoy a night filled with live music by Christine Havrilla & Mama's Blacksheep. All proceeds go directly to Libby's Legacy Breast Cancer Foundation.
X-ALT-DESC;FMTTYPE=text/html:Enjoy a night filled with live music by Christine Havrilla &amp\; Mama&#39\;s Blacksheep. All proceeds go directly to Libby&#39\;s Legacy Breast Cancer Foundation.
LOCATION:The Music Hall at the Mount Dora Community Buidling
UID:e.3485.13681
SEQUENCE:3
DTSTAMP:20260423T011424Z
URL:https://www.mountdora.com/events/details/1st-annual-daisy-music-fest-13681
END:VEVENT

END:VCALENDAR
