BEGIN:VCALENDAR
VERSION:2.0
PRODID:-//ChamberMaster//Event Calendar 2.0//EN
METHOD:PUBLISH
X-PUBLISHED-TTL:P3D
REFRESH-INTERVAL:P3D
CALSCALE:GREGORIAN
BEGIN:VEVENT
DTSTART:20250913T140000Z
DTEND:20250913T170000Z
X-MICROSOFT-CDO-ALLDAYEVENT:FALSE
SUMMARY:13th Annual Purses of Purpose Tea & Auction
DESCRIPTION:Join us for Lake County's premier ladies' tea and purse auction. Enjoy delicious brunch\, tea and freshly made pastries. Beautiful new and like new purses will be on display and available as auction items. Drawings and door prizes from local businesses. Prizes for most creative\, elegant and theme inspired table decor.\n\n\n\nProceeds benefit Hand in Hand Recovery.
X-ALT-DESC;FMTTYPE=text/html:Join us for Lake County&#39\;s premier ladies&#39\; tea and purse auction. Enjoy delicious brunch\, tea and freshly made pastries. Beautiful new and like new purses will be on display and available as auction items. Drawings and door prizes from local businesses. Prizes for most creative\, elegant and theme inspired table decor.<br />\n<br />\nProceeds benefit Hand in Hand Recovery.
LOCATION:Lifepoint Church 3551 E. Orange Ave. Eustis\, Florida
UID:e.3485.19473
SEQUENCE:3
DTSTAMP:20260422T150107Z
URL:https://www.mountdora.com/events/details/13th-annual-purses-of-purpose-tea-auction-19473
END:VEVENT

END:VCALENDAR
